BEGIN:VCALENDAR
VERSION:2.0
PRODID:-//UK-LAB - ECPv4.2.1//NONSGML v1.0//EN
CALSCALE:GREGORIAN
METHOD:PUBLISH
X-WR-CALNAME:UK-LAB
X-ORIGINAL-URL:http://lge.makerspace.lu
X-WR-CALDESC:Events for UK-LAB
BEGIN:VEVENT
DTSTART;TZID=UTC+0:20151007T095500
DTEND;TZID=UTC+0:20151007T104500
DTSTAMP:20180701T230147
CREATED:20151009T074758
LAST-MODIFIED:20151009T074758
UID:18-1444211700-1444214700@lge.makerspace.lu
SUMMARY:How to film with your smartphone
DESCRIPTION:Closed event.\n\nTeaching a class of students how to film themselves and others with their smartphones\, by request of their teacher.
URL:http://lge.makerspace.lu/index.php/event/how-to-film-with-your-smartphone/
LOCATION: 71\, rue du Fossé\, Esch-sur-Alzette\, L-4123\, Luxembourg
END:VEVENT
END:VCALENDAR