BEGIN:VCALENDAR
VERSION:2.0
PRODID:-//UK-LAB - ECPv4.2.1//NONSGML v1.0//EN
CALSCALE:GREGORIAN
METHOD:PUBLISH
X-WR-CALNAME:UK-LAB
X-ORIGINAL-URL:http://lge.makerspace.lu
X-WR-CALDESC:Events for UK-LAB
BEGIN:VEVENT
DTSTART;TZID=UTC+0:20151124T142000
DTEND;TZID=UTC+0:20151124T160000
DTSTAMP:20180701T225937
CREATED:20151111T085332
LAST-MODIFIED:20151209T074250
UID:36-1448374800-1448380800@lge.makerspace.lu
SUMMARY:Open Space
DESCRIPTION:Every Tuesday from 14:20 - 16:00 the UKLAB is open for anyone to come\, explore and create.\n\nPlease let us know in advance if you'd like to join through our contact form\, since our spots are limited.
URL:http://lge.makerspace.lu/index.php/event/open-space-2/
LOCATION: 71\, rue du Fossé\, Esch-sur-Alzette\, L-4123\, Luxembourg
END:VEVENT
END:VCALENDAR